BEGIN:VCALENDAR
VERSION:2.0
PRODID:-//hacksw/handcal//NONSGML v1.0//EN
BEGIN:VEVENT
SUMMARY:D3 barrage D3/D4 53-CGBC-5 D3 contre 53-LPL--4 D3
UID:552bd423-aeaf-4234-9681-d0ff0bddc379
DTSTART:20260329T070000Z
DTEND:20260329T230000Z
LOCATION:Localisation   
CATEGORIES:Sportif
STATUS:
URL;VALUE=URI:https://chateaugontier-badminton-club.sportsregions.fr/evenements/2026/03/29/d3-barrage-d3d4-53-cgbc-5-d3-contre-53-lpl-4-d3-2436168
END:VEVENT
END:VCALENDAR
