BEGIN:VCALENDAR
VERSION:2.0
PRODID:-//hacksw/handcal//NONSGML v1.0//EN
BEGIN:VEVENT
SUMMARY:D3 barrage D3/D4 53-CGBC-5 D3 contre 53-MBC-2 D3
UID:9044a197-3ee8-428d-8da6-55b75c432ef6
DTSTART:20260329T120000Z
DTEND:20260329T230000Z
LOCATION:Localisation   
CATEGORIES:Sportif
STATUS:
URL;VALUE=URI:https://chateaugontier-badminton-club.sportsregions.fr/evenements/2026/03/29/d3-barrage-d3d4-53-cgbc-5-d3-contre-53-mbc-2-d3-2436166
END:VEVENT
END:VCALENDAR
